BEGIN:VCALENDAR
PRODID:-//PUBBLE//enter agenda//NL
VERSION:2.0
METHOD:PUBLISH
BEGIN:VEVENT
DTSTART:20250613T080000Z
DTEND:20250613T150000Z
DTSTAMP:20260421T172648Z
UID:5f1df4a7-4714-47cf-a697-a3e2b5c8ac63
CREATED:20260421T172648Z
URL:https://www.weespfoto.nl/agenda/item/354793
NAME:PlusBus Weesp weespfoto.nl
X-WR-CALNAME:PlusBus Weesp weespfoto.nl
X-ALT-DESC;FMTTYPE=text/html:<a href='https://www.weespfoto.nl/agenda/item//354793'>https://weespfoto.nl/agenda/item//354793</a> || <p>Waterrups-Noordwijkerhout.</p><p>In omgeving van Noordwijkerhout maken we een vaartocht van een uur met de waterrups over de trekvaart Haarlem-Leiden. Onderweg verteld een begeleider over de streek.Vooraf lunchen we op een leuke buitenlocatie.</p><p>Info ma en vr tussen 19-12 uur op 0294-410639.</p>
DESCRIPTION:<a href='https://www.weespfoto.nl/agenda/item//354793'>https://www.weespfoto.nl/agenda/item//354793</a> || Waterrups-Noordwijkerhout.In omgeving van Noordwijkerhout maken we een vaartocht van een uur met de waterrups over de trekvaart Haarlem-Leiden. Onderweg verteld een begeleider over de streek.Vooraf lunchen we op een leuke buitenlocatie.Info ma en vr tussen 19-12 uur op 0294-410639.
LAST-MODIFIED:20260421T172648Z
LOCATION:Thuis ophalen xx xx XXXX Weesp
SEQUENCE:0
STATUS:CONFIRMED
SUMMARY:PlusBus Weesp
TRANSP:OPAQUE
END:VEVENT
END:VCALENDAR
