BEGIN:VCALENDAR
PRODID:-//PUBBLE//enter agenda//NL
VERSION:2.0
METHOD:PUBLISH
BEGIN:VEVENT
DTSTART:20250613T173000Z
DTEND:20250613T190000Z
DTSTAMP:20260422T025158Z
UID:72f3d432-23db-4f8c-92eb-770b313b4bed
CREATED:20260422T025158Z
URL:https://www.weespfoto.nl/agenda/item/354990
NAME:Jeugdtoneel “Gekken” weespfoto.nl
X-WR-CALNAME:Jeugdtoneel “Gekken” weespfoto.nl
X-ALT-DESC;FMTTYPE=text/html:<a href='https://www.weespfoto.nl/agenda/item//354990'>https://weespfoto.nl/agenda/item//354990</a> || <p>De jeugdgroep van Deo et Arti speelt het knettergekke stuk “Gekken” van Rick Willemsen en Erik Zeegers. Regie: Ghislaine Zegers Veeckens. Wanneer 2 boeven na gevangenschap hun buit willen opgraven, is op die plek een gekkenhuis gebouwd. Door de patiënten loopt alles in de soep. Kaarten deoetarti.nl&nbsp;</p>
DESCRIPTION:<a href='https://www.weespfoto.nl/agenda/item//354990'>https://www.weespfoto.nl/agenda/item//354990</a> || De jeugdgroep van Deo et Arti speelt het knettergekke stuk “Gekken” van Rick Willemsen en Erik Zeegers. Regie: Ghislaine Zegers Veeckens. Wanneer 2 boeven na gevangenschap hun buit willen opgraven, is op die plek een gekkenhuis gebouwd. Door de patiënten loopt alles in de soep. Kaarten deoetarti.nl 
LAST-MODIFIED:20260422T025158Z
LOCATION:Theater De Hasselbak Hiltlaan 17 3755 AX Eemnes
SEQUENCE:0
STATUS:CONFIRMED
SUMMARY:Jeugdtoneel “Gekken”
TRANSP:OPAQUE
END:VEVENT
END:VCALENDAR
