BEGIN:VCALENDAR
PRODID:-//PUBBLE//enter agenda//NL
VERSION:2.0
METHOD:PUBLISH
BEGIN:VEVENT
DTSTART:20250613T083000Z
DTEND:20250706T150000Z
DTSTAMP:20260421T185333Z
UID:483034a2-2b89-4d6f-a9cd-a7515164f3ae
CREATED:20260421T185333Z
URL:https://www.weespfoto.nl/agenda/item/355626
NAME:Fotofestival Naarden weespfoto.nl
X-WR-CALNAME:Fotofestival Naarden weespfoto.nl
X-ALT-DESC;FMTTYPE=text/html:<a href='https://www.weespfoto.nl/agenda/item//355626'>https://weespfoto.nl/agenda/item//355626</a> || <p>Fotofestival Naarden keert van 13 juni t/m 6 juli 2025 terug met het thema ‘Thuis’. Meer dan 25 fotografen tonen werk op 12 locaties in de vestingstad. Gevestigde namen en &nbsp;jong talent – ontdek wat ‘thuis’ betekent in beeld. Meer info: www.fotofestivalnaarden.nl.</p>
DESCRIPTION:<a href='https://www.weespfoto.nl/agenda/item//355626'>https://www.weespfoto.nl/agenda/item//355626</a> || Fotofestival Naarden keert van 13 juni t/m 6 juli 2025 terug met het thema ‘Thuis’. Meer dan 25 fotografen tonen werk op 12 locaties in de vestingstad. Gevestigde namen en  jong talent – ontdek wat ‘thuis’ betekent in beeld. Meer info: www.fotofestivalnaarden.nl.
LAST-MODIFIED:20260421T185333Z
LOCATION:    
SEQUENCE:0
STATUS:CONFIRMED
SUMMARY:Fotofestival Naarden
TRANSP:OPAQUE
END:VEVENT
END:VCALENDAR
