BEGIN:VCALENDAR
PRODID:-//PUBBLE//enter agenda//NL
VERSION:2.0
METHOD:PUBLISH
BEGIN:VEVENT
DTSTART:20250612T110000Z
DTEND:20250612T140000Z
DTSTAMP:20260421T113206Z
UID:17673864-b10b-4eaf-b79b-68c617d20d6f
CREATED:20260421T113206Z
URL:https://www.weespfoto.nl/agenda/item/356441
NAME:Reisloket weespfoto.nl
X-WR-CALNAME:Reisloket weespfoto.nl
X-ALT-DESC;FMTTYPE=text/html:<a href='https://www.weespfoto.nl/agenda/item//356441'>https://weespfoto.nl/agenda/item//356441</a> || <p>Bij de workshop van Reisloket krijg je advies over voordeling reizen voor &nbsp;65+’ers. Neem je bankpas en smartphone mee.</p>
DESCRIPTION:<a href='https://www.weespfoto.nl/agenda/item//356441'>https://www.weespfoto.nl/agenda/item//356441</a> || Bij de workshop van Reisloket krijg je advies over voordeling reizen voor  65+’ers. Neem je bankpas en smartphone mee.
LAST-MODIFIED:20260421T113206Z
LOCATION:Bibliotheek Gooi+ Naarden Majoor Kampsstraat  3 1411TT Naarden
SEQUENCE:0
STATUS:CONFIRMED
SUMMARY:Reisloket
TRANSP:OPAQUE
END:VEVENT
END:VCALENDAR
