BEGIN:VCALENDAR
PRODID:-//PUBBLE//enter agenda//NL
VERSION:2.0
METHOD:PUBLISH
BEGIN:VEVENT
DTSTART:20250612T163000Z
DTEND:20250612T173000Z
DTSTAMP:20260421T142002Z
UID:d3e2c7f2-d955-45ee-9335-0eb6cef17d07
CREATED:20260421T142002Z
URL:https://www.weespfoto.nl/agenda/item/356449
NAME:Pennenhelden weespfoto.nl
X-WR-CALNAME:Pennenhelden weespfoto.nl
X-ALT-DESC;FMTTYPE=text/html:<a href='https://www.weespfoto.nl/agenda/item//356449'>https://weespfoto.nl/agenda/item//356449</a> || <p>Pennenhelden is een leuke schrijfclub in Naarden voor kinderen van 8 tot 12 jaar. Ontdek je schrijftalent en laat je fantasie de vrije loop onder begeleiding van ervaren coaches! Tarief: € 2,50. www.bibliotheekgooiplus.nl</p>
DESCRIPTION:<a href='https://www.weespfoto.nl/agenda/item//356449'>https://www.weespfoto.nl/agenda/item//356449</a> || Pennenhelden is een leuke schrijfclub in Naarden voor kinderen van 8 tot 12 jaar. Ontdek je schrijftalent en laat je fantasie de vrije loop onder begeleiding van ervaren coaches! Tarief: € 2,50. www.bibliotheekgooiplus.nl
LAST-MODIFIED:20260421T142002Z
LOCATION:Bibliotheek Gooi+ Naarden Majoor Kampsstraat  3 1411TT Naarden
SEQUENCE:0
STATUS:CONFIRMED
SUMMARY:Pennenhelden
TRANSP:OPAQUE
END:VEVENT
END:VCALENDAR
