BEGIN:VCALENDAR
PRODID:-//PUBBLE//enter agenda//NL
VERSION:2.0
METHOD:PUBLISH
BEGIN:VEVENT
DTSTART:20250613T130000Z
DTEND:20250613T143000Z
DTSTAMP:20260421T233040Z
UID:f6150dbb-1b59-4196-9266-4ca6c51b78f5
CREATED:20260421T233040Z
URL:https://www.weespfoto.nl/agenda/item/356450
NAME:BiebLab Muiden weespfoto.nl
X-WR-CALNAME:BiebLab Muiden weespfoto.nl
X-ALT-DESC;FMTTYPE=text/html:<a href='https://www.weespfoto.nl/agenda/item//356450'>https://weespfoto.nl/agenda/item//356450</a> || <p>Ontwerp je eigen insectenhuisje in deze 3D-print workshop! Leer waar insecten graag wonen en creëer een villa of minimalistisch ontwerp. Je 3D-geprinte huisje haal je later op in de bibliotheek.</p>
DESCRIPTION:<a href='https://www.weespfoto.nl/agenda/item//356450'>https://www.weespfoto.nl/agenda/item//356450</a> || Ontwerp je eigen insectenhuisje in deze 3D-print workshop! Leer waar insecten graag wonen en creëer een villa of minimalistisch ontwerp. Je 3D-geprinte huisje haal je later op in de bibliotheek.
LAST-MODIFIED:20260421T233040Z
LOCATION:Bibliotheek Gooi + Muiden Kazernestraat 10 1398an Muiden
SEQUENCE:0
STATUS:CONFIRMED
SUMMARY:BiebLab Muiden
TRANSP:OPAQUE
END:VEVENT
END:VCALENDAR
