BEGIN:VCALENDAR
PRODID:-//PUBBLE//enter agenda//NL
VERSION:2.0
METHOD:PUBLISH
BEGIN:VEVENT
DTSTART:20250612T180000Z
DTEND:20250612T200000Z
DTSTAMP:20260421T155020Z
UID:64d463e4-6f26-4ac1-afa3-6bde16991f6c
CREATED:20260421T155020Z
URL:https://www.weespfoto.nl/agenda/item/356578
NAME:Over Herakleitos Wijsheid weespfoto.nl
X-WR-CALNAME:Over Herakleitos Wijsheid weespfoto.nl
X-ALT-DESC;FMTTYPE=text/html:<a href='https://www.weespfoto.nl/agenda/item//356578'>https://weespfoto.nl/agenda/item//356578</a> || <p>De filosoof en classicus Ben Schomakers (1960) promoveerde op Parmenides en vertaalde werken van van Aristoteles. Hij geeft een lezing over zijn publicatie van ‘Alle woorden’ en ‘Het moment’ van Heraclitus in 2024, waarvoor hij werd genomineerd voor de Socratesbeker. Toegang €10,- www.cciv.nl</p>
DESCRIPTION:<a href='https://www.weespfoto.nl/agenda/item//356578'>https://www.weespfoto.nl/agenda/item//356578</a> || De filosoof en classicus Ben Schomakers (1960) promoveerde op Parmenides en vertaalde werken van van Aristoteles. Hij geeft een lezing over zijn publicatie van ‘Alle woorden’ en ‘Het moment’ van Heraclitus in 2024, waarvoor hij werd genomineerd voor de Socratesbeker. Toegang €10,- www.cciv.nl
LAST-MODIFIED:20260421T155020Z
LOCATION:Tuinzaal - Kerk Remonstranten Koningslaan 2B 1405gl Bussum
SEQUENCE:0
STATUS:CONFIRMED
SUMMARY:Over Herakleitos Wijsheid
TRANSP:OPAQUE
END:VEVENT
END:VCALENDAR
