BEGIN:VCALENDAR
PRODID:-//PUBBLE//enter agenda//NL
VERSION:2.0
METHOD:PUBLISH
BEGIN:VEVENT
DTSTART:20251122T181500Z
DTEND:20251121T230000Z
DTSTAMP:20260425T111934Z
UID:ec81e7f3-7161-4b94-8f2c-b8a4cf6e5178
CREATED:20260425T111934Z
URL:https://www.weespfoto.nl/agenda/item/358424
NAME:Peter van Rooijen & Band weespfoto.nl
X-WR-CALNAME:Peter van Rooijen & Band weespfoto.nl
X-ALT-DESC;FMTTYPE=text/html:<a href='https://www.weespfoto.nl/agenda/item//358424'>https://weespfoto.nl/agenda/item//358424</a> || <p>Cabaretier &amp; liedjeskunstenaar Peter van Rooijen brengt samen met zijn geweldige band de allerbeste nummers van zijn bejubelde Liefde, dood &amp;-trilogie. Dé ultieme kans om de prachtige én uitermate grappige nummers nog één keer live te horen.&nbsp;</p>
DESCRIPTION:<a href='https://www.weespfoto.nl/agenda/item//358424'>https://www.weespfoto.nl/agenda/item//358424</a> || Cabaretier & liedjeskunstenaar Peter van Rooijen brengt samen met zijn geweldige band de allerbeste nummers van zijn bejubelde Liefde, dood &-trilogie. Dé ultieme kans om de prachtige én uitermate grappige nummers nog één keer live te horen. 
LAST-MODIFIED:20260425T111934Z
LOCATION:Spant! dr. Abraham Kuyperlaan 3 dr. Abraham Kuyperlaan 3 1402sb Bussum
SEQUENCE:0
STATUS:CONFIRMED
SUMMARY:Peter van Rooijen & Band
TRANSP:OPAQUE
END:VEVENT
END:VCALENDAR
