BEGIN:VCALENDAR
PRODID:-//PUBBLE//enter agenda//NL
VERSION:2.0
METHOD:PUBLISH
BEGIN:VEVENT
DTSTART:20251123T140000Z
DTEND:20251122T230000Z
DTSTAMP:20260425T231835Z
UID:d1ecb033-98b4-4438-abe7-0f6fdfbcbb32
CREATED:20260425T231835Z
URL:https://www.weespfoto.nl/agenda/item/358427
NAME:Maaike Ouboter weespfoto.nl
X-WR-CALNAME:Maaike Ouboter weespfoto.nl
X-ALT-DESC;FMTTYPE=text/html:<a href='https://www.weespfoto.nl/agenda/item//358427'>https://weespfoto.nl/agenda/item//358427</a> || <p>Tijdens dit theaterconcert speelt Maaike Ouboter hertalingen van haar eigen lievelingsliedjes en neemt ze je mee langs van oorsprong anderstalige liedjes die haar hebben geïnspireerd, geraakt en gevormd. Door er in het Nederlands nieuwe woorden aan te geven, brengt ze de nummers dichtbij. </p>
DESCRIPTION:<a href='https://www.weespfoto.nl/agenda/item//358427'>https://www.weespfoto.nl/agenda/item//358427</a> || Tijdens dit theaterconcert speelt Maaike Ouboter hertalingen van haar eigen lievelingsliedjes en neemt ze je mee langs van oorsprong anderstalige liedjes die haar hebben geïnspireerd, geraakt en gevormd. Door er in het Nederlands nieuwe woorden aan te geven, brengt ze de nummers dichtbij. 
LAST-MODIFIED:20260425T231835Z
LOCATION:Spant! dr. Abraham Kuyperlaan 3 dr. Abraham Kuyperlaan 3 1402sb Bussum
SEQUENCE:0
STATUS:CONFIRMED
SUMMARY:Maaike Ouboter
TRANSP:OPAQUE
END:VEVENT
END:VCALENDAR
