BEGIN:VCALENDAR
PRODID:-//PUBBLE//enter agenda//NL
VERSION:2.0
METHOD:PUBLISH
BEGIN:VEVENT
DTSTART:20251123T123000Z
DTEND:20251122T230000Z
DTSTAMP:20260425T203835Z
UID:68173ed1-c422-4d46-ba31-75d317c31130
CREATED:20260425T203835Z
URL:https://www.weespfoto.nl/agenda/item/358430
NAME:Carmen olv Jeroen Weierink weespfoto.nl
X-WR-CALNAME:Carmen olv Jeroen Weierink weespfoto.nl
X-ALT-DESC;FMTTYPE=text/html:<a href='https://www.weespfoto.nl/agenda/item//358430'>https://weespfoto.nl/agenda/item//358430</a> || <p>Na het overdonderende succes van La Traviata vorig seizoen kon de keuze voor dit jaar niet anders zijn: Carmen! Een absolute publiekslieveling, vol operahits als La Habanera, Toreador en Seguidilla.</p><p>&nbsp;Net als bij La Traviata brengt Ukraine Chamber Opera een intieme, pure versie van deze klassieker.</p>
DESCRIPTION:<a href='https://www.weespfoto.nl/agenda/item//358430'>https://www.weespfoto.nl/agenda/item//358430</a> || Na het overdonderende succes van La Traviata vorig seizoen kon de keuze voor dit jaar niet anders zijn: Carmen! Een absolute publiekslieveling, vol operahits als La Habanera, Toreador en Seguidilla. Net als bij La Traviata brengt Ukraine Chamber Opera een intieme, pure versie van deze klassieker.
LAST-MODIFIED:20260425T203835Z
LOCATION:Spant! dr. Abraham Kuyperlaan 3 dr. Abraham Kuyperlaan 3 1402sb Bussum
SEQUENCE:0
STATUS:CONFIRMED
SUMMARY:Carmen olv Jeroen Weierink
TRANSP:OPAQUE
END:VEVENT
END:VCALENDAR
