BEGIN:VCALENDAR
PRODID:-//PUBBLE//enter agenda//NL
VERSION:2.0
METHOD:PUBLISH
BEGIN:VEVENT
DTSTART:20251230T123000Z
DTEND:20251229T230000Z
DTSTAMP:20260424T033904Z
UID:94f382ca-58e8-4ae9-87a4-01d276963e71
CREATED:20260424T033904Z
URL:https://www.weespfoto.nl/agenda/item/358789
NAME:The WIZ weespfoto.nl
X-WR-CALNAME:The WIZ weespfoto.nl
X-ALT-DESC;FMTTYPE=text/html:<a href='https://www.weespfoto.nl/agenda/item//358789'>https://weespfoto.nl/agenda/item//358789</a> || <p>Deze humorvolle Broadwayklassieker neemt de gehele familie mee op een sprookjesachtige reis vol energie, soul en avontuur. Met bekende songs als “A Brand New Day” en “Ease On Down the Road” belooft deze musical een magisch spektakel te worden voor de hele familie! Tevens avondvoorstelling om 19.00u.</p>
DESCRIPTION:<a href='https://www.weespfoto.nl/agenda/item//358789'>https://www.weespfoto.nl/agenda/item//358789</a> || Deze humorvolle Broadwayklassieker neemt de gehele familie mee op een sprookjesachtige reis vol energie, soul en avontuur. Met bekende songs als “A Brand New Day” en “Ease On Down the Road” belooft deze musical een magisch spektakel te worden voor de hele familie! Tevens avondvoorstelling om 19.00u.
LAST-MODIFIED:20260424T033904Z
LOCATION:Spant! dr. Abraham Kuyperlaan 3 dr. Abraham Kuyperlaan 3 1402sb Bussum
SEQUENCE:0
STATUS:CONFIRMED
SUMMARY:The WIZ
TRANSP:OPAQUE
END:VEVENT
END:VCALENDAR
