BEGIN:VCALENDAR
PRODID:-//PUBBLE//enter agenda//NL
VERSION:2.0
METHOD:PUBLISH
BEGIN:VEVENT
DTSTART:20251122T183000Z
DTEND:20251122T210000Z
DTSTAMP:20260425T125212Z
UID:b71468f6-d39e-4b69-b468-78ebb0f763e2
CREATED:20260425T125212Z
URL:https://www.weespfoto.nl/agenda/item/359199
NAME:Yannick Jozefzoon Likemind weespfoto.nl
X-WR-CALNAME:Yannick Jozefzoon Likemind weespfoto.nl
X-ALT-DESC;FMTTYPE=text/html:<a href='https://www.weespfoto.nl/agenda/item//359199'>https://weespfoto.nl/agenda/item//359199</a> || <p>King Cannabis is een liefdevol, humoristisch, rauw en ontroerend verhaal over zelfrespect, verslaving en rolmodellen. Yannick neemt je mee in het hoofd van een jonge steracteur, naar een wereld vol rookgordijnen, en onderzoekt de de dunne lijn tussen vrijheid en zelfdestructie.</p>
DESCRIPTION:<a href='https://www.weespfoto.nl/agenda/item//359199'>https://www.weespfoto.nl/agenda/item//359199</a> || King Cannabis is een liefdevol, humoristisch, rauw en ontroerend verhaal over zelfrespect, verslaving en rolmodellen. Yannick neemt je mee in het hoofd van een jonge steracteur, naar een wereld vol rookgordijnen, en onderzoekt de de dunne lijn tussen vrijheid en zelfdestructie.
LAST-MODIFIED:20260425T125212Z
LOCATION:City of Wesopa Herengracht 23 Herengracht 23 1382ag Weesp
SEQUENCE:0
STATUS:CONFIRMED
SUMMARY:Yannick Jozefzoon Likemind
TRANSP:OPAQUE
END:VEVENT
END:VCALENDAR
