BEGIN:VCALENDAR
PRODID:-//PUBBLE//enter agenda//NL
VERSION:2.0
METHOD:PUBLISH
BEGIN:VEVENT
DTSTART:20251121T183000Z
DTEND:20251121T203000Z
DTSTAMP:20260424T202400Z
UID:62fb9936-b4bf-424b-841d-19c2d5f481ff
CREATED:20260424T202400Z
URL:https://www.weespfoto.nl/agenda/item/359603
NAME:Eric van Sauers - #UNMUTE weespfoto.nl
X-WR-CALNAME:Eric van Sauers - #UNMUTE weespfoto.nl
X-ALT-DESC;FMTTYPE=text/html:<a href='https://www.weespfoto.nl/agenda/item//359603'>https://weespfoto.nl/agenda/item//359603</a> || <p>Na acht jaar afwezigheid is comedian Eric van Sauers terug daar waar hij op zijn best is: het podium. </p>
DESCRIPTION:<a href='https://www.weespfoto.nl/agenda/item//359603'>https://www.weespfoto.nl/agenda/item//359603</a> || Na acht jaar afwezigheid is comedian Eric van Sauers terug daar waar hij op zijn best is: het podium. 
LAST-MODIFIED:20260424T202400Z
LOCATION:Theater de Omval Ouddiemerlaan 104 1111HL Diemen
SEQUENCE:0
STATUS:CONFIRMED
SUMMARY:Eric van Sauers - #UNMUTE
TRANSP:OPAQUE
END:VEVENT
END:VCALENDAR
