BEGIN:VCALENDAR
PRODID:-//PUBBLE//enter agenda//NL
VERSION:2.0
METHOD:PUBLISH
BEGIN:VEVENT
DTSTART:20251123T090000Z
DTEND:20251123T103000Z
DTSTAMP:20260425T160814Z
UID:068e463b-5dd2-4b83-a098-dd423ed3eac1
CREATED:20260425T160814Z
URL:https://www.weespfoto.nl/agenda/item/359604
NAME:Vanaf2 - jeugdvoorstelling weespfoto.nl
X-WR-CALNAME:Vanaf2 - jeugdvoorstelling weespfoto.nl
X-ALT-DESC;FMTTYPE=text/html:<a href='https://www.weespfoto.nl/agenda/item//359604'>https://weespfoto.nl/agenda/item//359604</a> || <p>In een rustige, ontspannen sfeer hoor je het verhaal van Pietje Moe. In grappige en fantasievolle scènes zie je hoe Pietje Moe voor het eerst met Sinterklaas mee mag en van alles ontdekt. De voorstelling is omlijst met de allerleukste sinterklaasliedjes. Uit volle borst meezingen mag! </p>
DESCRIPTION:<a href='https://www.weespfoto.nl/agenda/item//359604'>https://www.weespfoto.nl/agenda/item//359604</a> || In een rustige, ontspannen sfeer hoor je het verhaal van Pietje Moe. In grappige en fantasievolle scènes zie je hoe Pietje Moe voor het eerst met Sinterklaas mee mag en van alles ontdekt. De voorstelling is omlijst met de allerleukste sinterklaasliedjes. Uit volle borst meezingen mag! 
LAST-MODIFIED:20260425T160814Z
LOCATION:Theater de Omval Ouddiemerlaan 104 1111HL Diemen
SEQUENCE:0
STATUS:CONFIRMED
SUMMARY:Vanaf2 - jeugdvoorstelling
TRANSP:OPAQUE
END:VEVENT
END:VCALENDAR
