BEGIN:VCALENDAR
PRODID:-//PUBBLE//enter agenda//NL
VERSION:2.0
METHOD:PUBLISH
BEGIN:VEVENT
DTSTART:20260306T183000Z
DTEND:20260306T203000Z
DTSTAMP:20260424T110900Z
UID:2bb6dc02-ec56-43da-ab3d-bcabba6f6a5b
CREATED:20260424T110900Z
URL:https://www.weespfoto.nl/agenda/item/359720
NAME:Debby Petter &Emma Finkers weespfoto.nl
X-WR-CALNAME:Debby Petter &Emma Finkers weespfoto.nl
X-ALT-DESC;FMTTYPE=text/html:<a href='https://www.weespfoto.nl/agenda/item//359720'>https://weespfoto.nl/agenda/item//359720</a> || <p>Debby Petter vertelt in het door haar man Youp van ’t Hek geschreven <em>Afslag Gewist</em> het verhaal van een vrouw en een brief. Zij wordt daarbij muzikaal ondersteund door harpiste Emma Finkers.</p>
DESCRIPTION:<a href='https://www.weespfoto.nl/agenda/item//359720'>https://www.weespfoto.nl/agenda/item//359720</a> || Debby Petter vertelt in het door haar man Youp van ’t Hek geschreven Afslag Gewist het verhaal van een vrouw en een brief. Zij wordt daarbij muzikaal ondersteund door harpiste Emma Finkers.
LAST-MODIFIED:20260424T110900Z
LOCATION:Theater de Omval Ouddiemerlaan 104 1111HL Diemen
SEQUENCE:0
STATUS:CONFIRMED
SUMMARY:Debby Petter &Emma Finkers
TRANSP:OPAQUE
END:VEVENT
END:VCALENDAR
