BEGIN:VCALENDAR
PRODID:-//PUBBLE//enter agenda//NL
VERSION:2.0
METHOD:PUBLISH
BEGIN:VEVENT
DTSTART:20260307T183000Z
DTEND:20260307T203000Z
DTSTAMP:20260424T170127Z
UID:0c0fb5a3-ef87-4637-8b17-fa368c7c3af7
CREATED:20260424T170127Z
URL:https://www.weespfoto.nl/agenda/item/359722
NAME:Howard Komproe weespfoto.nl
X-WR-CALNAME:Howard Komproe weespfoto.nl
X-ALT-DESC;FMTTYPE=text/html:<a href='https://www.weespfoto.nl/agenda/item//359722'>https://weespfoto.nl/agenda/item//359722</a> || <p>In <em>Peper &amp; Zuur?! </em>vertellen comedian Howard Komproe en kok Noni Kooiman de Surinaamse geschiedenis aan de hand van de keuken. Welke invloed heeft die geschiedenis op het land, de mensen en de keuken? En waar komen roti, bara, bakkeljauw en moksi meti vandaan? </p>
DESCRIPTION:<a href='https://www.weespfoto.nl/agenda/item//359722'>https://www.weespfoto.nl/agenda/item//359722</a> || In Peper & Zuur?! vertellen comedian Howard Komproe en kok Noni Kooiman de Surinaamse geschiedenis aan de hand van de keuken. Welke invloed heeft die geschiedenis op het land, de mensen en de keuken? En waar komen roti, bara, bakkeljauw en moksi meti vandaan? 
LAST-MODIFIED:20260424T170127Z
LOCATION:Theater de Omval Ouddiemerlaan 104 1111HL Diemen
SEQUENCE:0
STATUS:CONFIRMED
SUMMARY:Howard Komproe
TRANSP:OPAQUE
END:VEVENT
END:VCALENDAR
