BEGIN:VCALENDAR
PRODID:-//PUBBLE//enter agenda//NL
VERSION:2.0
METHOD:PUBLISH
BEGIN:VEVENT
DTSTART:20260308T093000Z
DTEND:20260308T130000Z
DTSTAMP:20260424T230301Z
UID:4f429efb-2e48-48ac-8b06-051235d966f7
CREATED:20260424T230301Z
URL:https://www.weespfoto.nl/agenda/item/359910
NAME:Royal Ballet - Woolf Works weespfoto.nl
X-WR-CALNAME:Royal Ballet - Woolf Works weespfoto.nl
X-ALT-DESC;FMTTYPE=text/html:<a href='https://www.weespfoto.nl/agenda/item//359910'>https://weespfoto.nl/agenda/item//359910</a> || <p><em>Woolf Works</em> is een collage van thema’s uit Mrs Dalloway, Orlando, The Waves en andere werken van Virginia Woolf. Dit met de Olivier-award onderscheiden drieluik is gecreëerd in 2015 voor The Royal Ballet, en geeft op perfecte wijze de unieke artistieke essentie van Woolf weer. </p>
DESCRIPTION:<a href='https://www.weespfoto.nl/agenda/item//359910'>https://www.weespfoto.nl/agenda/item//359910</a> || Woolf Works is een collage van thema’s uit Mrs Dalloway, Orlando, The Waves en andere werken van Virginia Woolf. Dit met de Olivier-award onderscheiden drieluik is gecreëerd in 2015 voor The Royal Ballet, en geeft op perfecte wijze de unieke artistieke essentie van Woolf weer. 
LAST-MODIFIED:20260424T230301Z
LOCATION:Theater de Omval Ouddiemerlaan 104 1111HL Diemen
SEQUENCE:0
STATUS:CONFIRMED
SUMMARY:Royal Ballet - Woolf Works
TRANSP:OPAQUE
END:VEVENT
END:VCALENDAR
