BEGIN:VCALENDAR
PRODID:-//PUBBLE//enter agenda//NL
VERSION:2.0
METHOD:PUBLISH
BEGIN:VEVENT
DTSTART:20260307T170000Z
DTEND:20260307T071900Z
DTSTAMP:20260424T154329Z
UID:9997b095-d947-4d38-882c-9422c5a829f5
CREATED:20260424T154329Z
URL:https://www.weespfoto.nl/agenda/item/359999
NAME:Bol An Wandeling Laren weespfoto.nl
X-WR-CALNAME:Bol An Wandeling Laren weespfoto.nl
X-ALT-DESC;FMTTYPE=text/html:<a href='https://www.weespfoto.nl/agenda/item//359999'>https://weespfoto.nl/agenda/item//359999</a> || <p>Boek de Bol-an wandeling door Laren met Leo Janssen – in 2025 iedere eerste zaterdag van de maand. Ontvangst om 10:00 uur met friandises in het Brinkhuis en aansluiten de wandeling tot ca 12:30 uur. € 12.50</p>
DESCRIPTION:<a href='https://www.weespfoto.nl/agenda/item//359999'>https://www.weespfoto.nl/agenda/item//359999</a> || Boek de Bol-an wandeling door Laren met Leo Janssen – in 2025 iedere eerste zaterdag van de maand. Ontvangst om 10:00 uur met friandises in het Brinkhuis en aansluiten de wandeling tot ca 12:30 uur. € 12.50
LAST-MODIFIED:20260424T154329Z
LOCATION:Brinkhuis Brink 29 1251kt Laren
SEQUENCE:0
STATUS:CONFIRMED
SUMMARY:Bol An Wandeling Laren
TRANSP:OPAQUE
END:VEVENT
END:VCALENDAR
