BEGIN:VCALENDAR
PRODID:-//PUBBLE//enter agenda//NL
VERSION:2.0
METHOD:PUBLISH
BEGIN:VEVENT
DTSTART:20260424T070000Z
DTEND:20261219T090000Z
DTSTAMP:20260424T011202Z
UID:4a374d9b-b8e0-4ca4-99c8-907631779243
CREATED:20260424T011202Z
URL:https://www.weespfoto.nl/agenda/item/360049
NAME:Meditatie weespfoto.nl
X-WR-CALNAME:Meditatie weespfoto.nl
X-ALT-DESC;FMTTYPE=text/html:<a href='https://www.weespfoto.nl/agenda/item//360049'>https://weespfoto.nl/agenda/item//360049</a> || <p>Liesbeth en Paul bereiden een meditatie sessie met verschillende onderdelen voor.</p><p>Per keer kan het anders zijn. De meditatie bestaat bijvoorbeeld uit: geleide ontspanning, stilte, klankschaal of gitaarmuziek. Neem je eigen bankje, kussen of deken mee. Er zijn stoelen en een bank om op te zitten.&nbsp;</p>
DESCRIPTION:<a href='https://www.weespfoto.nl/agenda/item//360049'>https://www.weespfoto.nl/agenda/item//360049</a> || Liesbeth en Paul bereiden een meditatie sessie met verschillende onderdelen voor.Per keer kan het anders zijn. De meditatie bestaat bijvoorbeeld uit: geleide ontspanning, stilte, klankschaal of gitaarmuziek. Neem je eigen bankje, kussen of deken mee. Er zijn stoelen en een bank om op te zitten. 
LAST-MODIFIED:20260424T011202Z
LOCATION:Haven 5 Havenstraat 5 1271AB Huizen
SEQUENCE:0
STATUS:CONFIRMED
SUMMARY:Meditatie
TRANSP:OPAQUE
END:VEVENT
END:VCALENDAR
