BEGIN:VCALENDAR
PRODID:-//PUBBLE//enter agenda//NL
VERSION:2.0
METHOD:PUBLISH
BEGIN:VEVENT
DTSTART:20260204T100000Z
DTEND:20261210T235000Z
DTSTAMP:20260424T055645Z
UID:ace10d36-dbb1-433c-b0ef-6d1a62412ee0
CREATED:20260424T055645Z
URL:https://www.weespfoto.nl/agenda/item/360052
NAME:Alleen? Samen aan de slag! weespfoto.nl
X-WR-CALNAME:Alleen? Samen aan de slag! weespfoto.nl
X-ALT-DESC;FMTTYPE=text/html:<a href='https://www.weespfoto.nl/agenda/item//360052'>https://weespfoto.nl/agenda/item//360052</a> || <p>Ben je alleen na een scheiding of overlijden van een geliefde? “Worstel” je ermee om je leven weer opnieuw in te richten en wil je mensen ontmoeten om met elkaar van gedachten te wisselen? Kom dan om de week op vrijdagmiddag naar HAVEN 5.</p>
DESCRIPTION:<a href='https://www.weespfoto.nl/agenda/item//360052'>https://www.weespfoto.nl/agenda/item//360052</a> || Ben je alleen na een scheiding of overlijden van een geliefde? “Worstel” je ermee om je leven weer opnieuw in te richten en wil je mensen ontmoeten om met elkaar van gedachten te wisselen? Kom dan om de week op vrijdagmiddag naar HAVEN 5.
LAST-MODIFIED:20260424T055645Z
LOCATION:Haven 5 Havenstraat 5 1271AB Huizen
SEQUENCE:0
STATUS:CONFIRMED
SUMMARY:Alleen? Samen aan de slag!
TRANSP:OPAQUE
END:VEVENT
END:VCALENDAR
