BEGIN:VCALENDAR
PRODID:-//PUBBLE//enter agenda//NL
VERSION:2.0
METHOD:PUBLISH
BEGIN:VEVENT
DTSTART:20251121T150000Z
DTEND:20251121T180000Z
DTSTAMP:20260424T173126Z
UID:9ae0caa7-6240-4831-9b89-69a1ace5405e
CREATED:20260424T173126Z
URL:https://www.weespfoto.nl/agenda/item/360966
NAME:Beursvloer Hilversum weespfoto.nl
X-WR-CALNAME:Beursvloer Hilversum weespfoto.nl
X-ALT-DESC;FMTTYPE=text/html:<a href='https://www.weespfoto.nl/agenda/item//360966'>https://weespfoto.nl/agenda/item//360966</a> || <p>Op 21 nov. vanaf 17u vindt de Maatschappelijke Beursvloer in Hilversum plaats in Heuvellaan. De plek waar ondernemers, maatschappelijke organisaties en bewonersinitiatieven elkaar ontmoeten. Gecombineerd met uitreiking Ondernemer van het Jaar 2025 door BV Hilversum. Info: beursvloerhilversum.nl&nbsp;</p>
DESCRIPTION:<a href='https://www.weespfoto.nl/agenda/item//360966'>https://www.weespfoto.nl/agenda/item//360966</a> || Op 21 nov. vanaf 17u vindt de Maatschappelijke Beursvloer in Hilversum plaats in Heuvellaan. De plek waar ondernemers, maatschappelijke organisaties en bewonersinitiatieven elkaar ontmoeten. Gecombineerd met uitreiking Ondernemer van het Jaar 2025 door BV Hilversum. Info: beursvloerhilversum.nl 
LAST-MODIFIED:20260424T173126Z
LOCATION:Muziekcentrum van de Omroep (MCO) Heuvellaan 33 1217jl Hilversum
SEQUENCE:0
STATUS:CONFIRMED
SUMMARY:Beursvloer Hilversum
TRANSP:OPAQUE
END:VEVENT
END:VCALENDAR
