BEGIN:VCALENDAR
PRODID:-//PUBBLE//enter agenda//NL
VERSION:2.0
METHOD:PUBLISH
BEGIN:VEVENT
DTSTART:20251123T120000Z
DTEND:20251123T124500Z
DTSTAMP:20260425T190653Z
UID:83e7e5e4-d9c3-4194-b9f6-1b1833be3c48
CREATED:20260425T190653Z
URL:https://www.weespfoto.nl/agenda/item/361003
NAME:Sinterklaasvoorstelling weespfoto.nl
X-WR-CALNAME:Sinterklaasvoorstelling weespfoto.nl
X-ALT-DESC;FMTTYPE=text/html:<a href='https://www.weespfoto.nl/agenda/item//361003'>https://weespfoto.nl/agenda/item//361003</a> || <p>Sinterklaas en...? Omdat we weten dat de Goedheiligman heel veel van toneel houdt, zullen we een toneelstukje opvoeren, waar kinderen van 3 tot ? jaar enorm van zullen genieten.</p><p>De 1e voorstelling begint om 14.00 u., de 2e om 16.00 uur. Meld ?volw/?kind. Res.: is noodzakelijk: theaterkk@gmail.com</p>
DESCRIPTION:<a href='https://www.weespfoto.nl/agenda/item//361003'>https://www.weespfoto.nl/agenda/item//361003</a> || Sinterklaas en...? Omdat we weten dat de Goedheiligman heel veel van toneel houdt, zullen we een toneelstukje opvoeren, waar kinderen van 3 tot ? jaar enorm van zullen genieten.De 1e voorstelling begint om 14.00 u., de 2e om 16.00 uur. Meld ?volw/?kind. Res.: is noodzakelijk: theaterkk@gmail.com
LAST-MODIFIED:20260425T190653Z
LOCATION:Theater Kleintje Kunst Kolhornseweg 9 1213RS Hilversum
SEQUENCE:0
STATUS:CONFIRMED
SUMMARY:Sinterklaasvoorstelling
TRANSP:OPAQUE
END:VEVENT
END:VCALENDAR
