BEGIN:VCALENDAR
PRODID:-//PUBBLE//enter agenda//NL
VERSION:2.0
METHOD:PUBLISH
BEGIN:VEVENT
DTSTART:20260308T110000Z
DTEND:20260308T130000Z
DTSTAMP:20260425T021510Z
UID:c2f0dfc3-49af-4fd9-ba95-eefe4e3398dd
CREATED:20260425T021510Z
URL:https://www.weespfoto.nl/agenda/item/362471
NAME:Kinderbingo weespfoto.nl
X-WR-CALNAME:Kinderbingo weespfoto.nl
X-ALT-DESC;FMTTYPE=text/html:<a href='https://www.weespfoto.nl/agenda/item//362471'>https://weespfoto.nl/agenda/item//362471</a> || <p>Zondag 8 maart is er weer een leuke kinderbingo met mooie prijzen. Moeders,vaders en opa’s en oma’s zijn uiteraard ook van harte welkom. Er zijn 4 rondes,een kaartje kost € 0.50 en voor de laatste superronde € 1.00 Limonade en chips is gratis.</p>
DESCRIPTION:<a href='https://www.weespfoto.nl/agenda/item//362471'>https://www.weespfoto.nl/agenda/item//362471</a> || Zondag 8 maart is er weer een leuke kinderbingo met mooie prijzen. Moeders,vaders en opa’s en oma’s zijn uiteraard ook van harte welkom. Er zijn 4 rondes,een kaartje kost € 0.50 en voor de laatste superronde € 1.00 Limonade en chips is gratis.
LAST-MODIFIED:20260425T021510Z
LOCATION:Wijkcentrum De Geus Geuzenweg 84 1221BV Hilversum
SEQUENCE:0
STATUS:CONFIRMED
SUMMARY:Kinderbingo
TRANSP:OPAQUE
END:VEVENT
END:VCALENDAR
