BEGIN:VCALENDAR
PRODID:-//PUBBLE//enter agenda//NL
VERSION:2.0
METHOD:PUBLISH
BEGIN:VEVENT
DTSTART:20251123T130000Z
DTEND:20251123T144500Z
DTSTAMP:20260425T215141Z
UID:313ab51c-4f56-4f13-9232-46b92c82228a
CREATED:20260425T215141Z
URL:https://www.weespfoto.nl/agenda/item/362742
NAME:Concert Edward Elgar weespfoto.nl
X-WR-CALNAME:Concert Edward Elgar weespfoto.nl
X-ALT-DESC;FMTTYPE=text/html:<a href='https://www.weespfoto.nl/agenda/item//362742'>https://weespfoto.nl/agenda/item//362742</a> || <p>Toonkunstkoor Hilversum zingt de romantische &nbsp;‘Bavarian Highlands’ van Edward Elgar en ‘Dreampictures’ van George Whiting. Solisten zijn Amber Breunis (sopraan), Yonathan van den Brink (bas), en Jeroen Koopman (piano en orgel). Dirigent is Nico Philipp Hovius. Kaarten via toonkunsthilversum.nl.</p>
DESCRIPTION:<a href='https://www.weespfoto.nl/agenda/item//362742'>https://www.weespfoto.nl/agenda/item//362742</a> || Toonkunstkoor Hilversum zingt de romantische  ‘Bavarian Highlands’ van Edward Elgar en ‘Dreampictures’ van George Whiting. Solisten zijn Amber Breunis (sopraan), Yonathan van den Brink (bas), en Jeroen Koopman (piano en orgel). Dirigent is Nico Philipp Hovius. Kaarten via toonkunsthilversum.nl.
LAST-MODIFIED:20260425T215141Z
LOCATION:De Morgenster Seinstraat 2 1223da Hilversum
SEQUENCE:0
STATUS:CONFIRMED
SUMMARY:Concert Edward Elgar
TRANSP:OPAQUE
END:VEVENT
END:VCALENDAR
