BEGIN:VCALENDAR
PRODID:-//PUBBLE//enter agenda//NL
VERSION:2.0
METHOD:PUBLISH
BEGIN:VEVENT
DTSTART:20251121T144500Z
DTEND:20251121T190000Z
DTSTAMP:20260424T161502Z
UID:b3dfa2b3-581d-49dd-8247-d305321dbc1b
CREATED:20260424T161502Z
URL:https://www.weespfoto.nl/agenda/item/363295
NAME:Plus bus Weesp weespfoto.nl
X-WR-CALNAME:Plus bus Weesp weespfoto.nl
X-ALT-DESC;FMTTYPE=text/html:<a href='https://www.weespfoto.nl/agenda/item//363295'>https://weespfoto.nl/agenda/item//363295</a> || <p>Aziatisch eten bij Borobudur -Bussum</p><p>Omdat het zo lekker is!</p><p>Met een kleine omweg gaan we naar het restaurant in Bussum om te genieten van heerlijk Indische gerechten! U wordt weer veilig thuis gebracht.</p><p>Info ma en vr tussen 10-12 uur op 0294410639.</p>
DESCRIPTION:<a href='https://www.weespfoto.nl/agenda/item//363295'>https://www.weespfoto.nl/agenda/item//363295</a> || Aziatisch eten bij Borobudur -BussumOmdat het zo lekker is!Met een kleine omweg gaan we naar het restaurant in Bussum om te genieten van heerlijk Indische gerechten! U wordt weer veilig thuis gebracht.Info ma en vr tussen 10-12 uur op 0294410639.
LAST-MODIFIED:20260424T161502Z
LOCATION:Thuis ophalen xx xx XXXX Weesp
SEQUENCE:0
STATUS:CONFIRMED
SUMMARY:Plus bus Weesp
TRANSP:OPAQUE
END:VEVENT
END:VCALENDAR
