BEGIN:VCALENDAR
PRODID:-//PUBBLE//enter agenda//NL
VERSION:2.0
METHOD:PUBLISH
BEGIN:VEVENT
DTSTART:20251121T180000Z
DTEND:20251121T203000Z
DTSTAMP:20260424T185203Z
UID:b4175773-9b40-4234-b8bc-77c885503148
CREATED:20260424T185203Z
URL:https://www.weespfoto.nl/agenda/item/363317
NAME:Humor in de Krachtcentrale weespfoto.nl
X-WR-CALNAME:Humor in de Krachtcentrale weespfoto.nl
X-ALT-DESC;FMTTYPE=text/html:<a href='https://www.weespfoto.nl/agenda/item//363317'>https://weespfoto.nl/agenda/item//363317</a> || <p><strong>QR-Cabaret presenteert: Maaike Dirkje Hop! (TRY-OUT)</strong></p><p>Cabaret van hoog niveau met Maaike Dirkje Hop, Ghislaine, Yrla van de Ven en Jessica Jongeneel. De toegang is geheel Gratis! Lach hard en betaal achteraf wat je het waard vindt! Bestel je gratis kaarten bij de Krachtcentrale in Huizen.</p>
DESCRIPTION:<a href='https://www.weespfoto.nl/agenda/item//363317'>https://www.weespfoto.nl/agenda/item//363317</a> || QR-Cabaret presenteert: Maaike Dirkje Hop! (TRY-OUT)Cabaret van hoog niveau met Maaike Dirkje Hop, Ghislaine, Yrla van de Ven en Jessica Jongeneel. De toegang is geheel Gratis! Lach hard en betaal achteraf wat je het waard vindt! Bestel je gratis kaarten bij de Krachtcentrale in Huizen.
LAST-MODIFIED:20260424T185203Z
LOCATION:    
SEQUENCE:0
STATUS:CONFIRMED
SUMMARY:Humor in de Krachtcentrale
TRANSP:OPAQUE
END:VEVENT
END:VCALENDAR
