BEGIN:VCALENDAR
PRODID:-//PUBBLE//enter agenda//NL
VERSION:2.0
METHOD:PUBLISH
BEGIN:VEVENT
DTSTART:20251113T130000Z
DTEND:20251113T150000Z
DTSTAMP:20260426T023652Z
UID:521c633e-865a-4083-85ac-fdbaf88cad00
CREATED:20260426T023652Z
URL:https://www.weespfoto.nl/agenda/item/363666
NAME:Rietland weespfoto.nl
X-WR-CALNAME:Rietland weespfoto.nl
X-ALT-DESC;FMTTYPE=text/html:<a href='https://www.weespfoto.nl/agenda/item//363666'>https://weespfoto.nl/agenda/item//363666</a> || <p>Rietland is een beklemmend drama waarin een rietsnijder na een lugubere vondst op zoek gaat naar antwoorden. Geselecteerd voor Cannes en de Nederlandse inzending voor de Oscars.</p>
DESCRIPTION:<a href='https://www.weespfoto.nl/agenda/item//363666'>https://www.weespfoto.nl/agenda/item//363666</a> || Rietland is een beklemmend drama waarin een rietsnijder na een lugubere vondst op zoek gaat naar antwoorden. Geselecteerd voor Cannes en de Nederlandse inzending voor de Oscars.
LAST-MODIFIED:20260426T023652Z
LOCATION:Theater de Omval Ouddiemerlaan 104 1111HL Diemen
SEQUENCE:0
STATUS:CONFIRMED
SUMMARY:Rietland
TRANSP:OPAQUE
END:VEVENT
END:VCALENDAR
