BEGIN:VCALENDAR
PRODID:-//PUBBLE//enter agenda//NL
VERSION:2.0
METHOD:PUBLISH
BEGIN:VEVENT
DTSTART:20251122T184500Z
DTEND:20251122T201500Z
DTSTAMP:20260425T144150Z
UID:8527f960-cf44-419b-8764-2038498f3d7c
CREATED:20260425T144150Z
URL:https://www.weespfoto.nl/agenda/item/363855
NAME:Traject speelt Samen weespfoto.nl
X-WR-CALNAME:Traject speelt Samen weespfoto.nl
X-ALT-DESC;FMTTYPE=text/html:<a href='https://www.weespfoto.nl/agenda/item//363855'>https://weespfoto.nl/agenda/item//363855</a> || <p>Het is december 1945 als Jonas na jaren afwezigheid terugkeert naar zijn oude appartement. Dat blijkt inmiddels opnieuw verhuurd. De huisbazin probeert de huidige huurders te overtuigen Jonas tijdelijk in huis te nemen. Maar wiens probleem lost ze daarmee eigenlijk op?</p>
DESCRIPTION:<a href='https://www.weespfoto.nl/agenda/item//363855'>https://www.weespfoto.nl/agenda/item//363855</a> || Het is december 1945 als Jonas na jaren afwezigheid terugkeert naar zijn oude appartement. Dat blijkt inmiddels opnieuw verhuurd. De huisbazin probeert de huidige huurders te overtuigen Jonas tijdelijk in huis te nemen. Maar wiens probleem lost ze daarmee eigenlijk op?
LAST-MODIFIED:20260425T144150Z
LOCATION:Theater De Hasselbak Hiltlaan 17 3755 AX Eemnes
SEQUENCE:0
STATUS:CONFIRMED
SUMMARY:Traject speelt Samen
TRANSP:OPAQUE
END:VEVENT
END:VCALENDAR
