BEGIN:VCALENDAR
PRODID:-//PUBBLE//enter agenda//NL
VERSION:2.0
METHOD:PUBLISH
BEGIN:VEVENT
DTSTART:20260102T143000Z
DTEND:20260101T230000Z
DTSTAMP:20260424T142344Z
UID:5dea489c-31bb-4b23-81a6-b0934413dcd3
CREATED:20260424T142344Z
URL:https://www.weespfoto.nl/agenda/item/363955
NAME:Het licht van Dudok weespfoto.nl
X-WR-CALNAME:Het licht van Dudok weespfoto.nl
X-ALT-DESC;FMTTYPE=text/html:<a href='https://www.weespfoto.nl/agenda/item//363955'>https://weespfoto.nl/agenda/item//363955</a> || <p>Beleef de effecten van het bijzondere lichtplan van Dudok! In de donkere dagen rond Kerst organiseert het Dudok Architectuur Centrum lichtrondleidingen door het Raadhuis van Hilversum. Samen met een gids ontdek je hoe Dudok als geen ander speelde met de effecten van licht en kleur.</p>
DESCRIPTION:<a href='https://www.weespfoto.nl/agenda/item//363955'>https://www.weespfoto.nl/agenda/item//363955</a> || Beleef de effecten van het bijzondere lichtplan van Dudok! In de donkere dagen rond Kerst organiseert het Dudok Architectuur Centrum lichtrondleidingen door het Raadhuis van Hilversum. Samen met een gids ontdek je hoe Dudok als geen ander speelde met de effecten van licht en kleur.
LAST-MODIFIED:20260424T142344Z
LOCATION:Dudok Architectuur Centrum Dudokpark 1 1217JE Hilversum
SEQUENCE:0
STATUS:CONFIRMED
SUMMARY:Het licht van Dudok
TRANSP:OPAQUE
END:VEVENT
END:VCALENDAR
