BEGIN:VCALENDAR
PRODID:-//PUBBLE//enter agenda//NL
VERSION:2.0
METHOD:PUBLISH
BEGIN:VEVENT
DTSTART:20260112T173000Z
DTEND:20260112T193000Z
DTSTAMP:20260424T154642Z
UID:223626d1-d4b8-45da-bb3d-06f2dc3d9e71
CREATED:20260424T154642Z
URL:https://www.weespfoto.nl/agenda/item/364047
NAME:Bridgeles voor beginner weespfoto.nl
X-WR-CALNAME:Bridgeles voor beginner weespfoto.nl
X-ALT-DESC;FMTTYPE=text/html:<a href='https://www.weespfoto.nl/agenda/item//364047'>https://weespfoto.nl/agenda/item//364047</a> || <p>Leer bridge bij volksuniversiteit Het Gooi van onze zeer ervaren en enthousiaste docenten! Strategie, spelinzicht en soms een beetje bluf maken bridge tot een boeiend spel voor jong en oud. Iedereen kan deze gezellige en sociale bezigheid leren. Info en aanmelden: volksuniversiteithetgooi.nl</p>
DESCRIPTION:<a href='https://www.weespfoto.nl/agenda/item//364047'>https://www.weespfoto.nl/agenda/item//364047</a> || Leer bridge bij volksuniversiteit Het Gooi van onze zeer ervaren en enthousiaste docenten! Strategie, spelinzicht en soms een beetje bluf maken bridge tot een boeiend spel voor jong en oud. Iedereen kan deze gezellige en sociale bezigheid leren. Info en aanmelden: volksuniversiteithetgooi.nl
LAST-MODIFIED:20260424T154642Z
LOCATION:Brinkhuis Brink 29 1251kt Laren
SEQUENCE:0
STATUS:CONFIRMED
SUMMARY:Bridgeles voor beginner
TRANSP:OPAQUE
END:VEVENT
END:VCALENDAR
