BEGIN:VCALENDAR
PRODID:-//PUBBLE//enter agenda//NL
VERSION:2.0
METHOD:PUBLISH
BEGIN:VEVENT
DTSTART:20260306T070000Z
DTEND:20260306T090000Z
DTSTAMP:20260424T045043Z
UID:018c8087-fa5f-43aa-9d59-88dc2c1c725b
CREATED:20260424T045043Z
URL:https://www.weespfoto.nl/agenda/item/364085
NAME:Inleiding Genealogie weespfoto.nl
X-WR-CALNAME:Inleiding Genealogie weespfoto.nl
X-ALT-DESC;FMTTYPE=text/html:<a href='https://www.weespfoto.nl/agenda/item//364085'>https://weespfoto.nl/agenda/item//364085</a> || <p>De afdeling <strong>Gooiland&nbsp;</strong>van de NGV organiseert een lezing <strong>Familiegeschiedenis</strong>. In deze voordracht passeren een aantal genealogische termen de revue, krijgt u adviezen waar en hoe met de stamboom te beginnen, leert u over de bevolkingsregistratie en krijgt u aanwijzingen hoe te zoeken op internet.</p>
DESCRIPTION:<a href='https://www.weespfoto.nl/agenda/item//364085'>https://www.weespfoto.nl/agenda/item//364085</a> || De afdeling Gooiland van de NGV organiseert een lezing Familiegeschiedenis. In deze voordracht passeren een aantal genealogische termen de revue, krijgt u adviezen waar en hoe met de stamboom te beginnen, leert u over de bevolkingsregistratie en krijgt u aanwijzingen hoe te zoeken op internet.
LAST-MODIFIED:20260424T045043Z
LOCATION:Bibliotheek Gooi en meer vestiging Loosdrecht Tjalk 41 1231tt Loosdrecht
SEQUENCE:0
STATUS:CONFIRMED
SUMMARY:Inleiding Genealogie
TRANSP:OPAQUE
END:VEVENT
END:VCALENDAR
