BEGIN:VCALENDAR
PRODID:-//PUBBLE//enter agenda//NL
VERSION:2.0
METHOD:PUBLISH
BEGIN:VEVENT
DTSTART:20251121T110000Z
DTEND:20251121T150000Z
DTSTAMP:20260424T132226Z
UID:35ccb0e1-1139-43c6-9a42-2deb03eb9cc7
CREATED:20260424T132226Z
URL:https://www.weespfoto.nl/agenda/item/364167
NAME:Van angst naar vertrouwen weespfoto.nl
X-WR-CALNAME:Van angst naar vertrouwen weespfoto.nl
X-ALT-DESC;FMTTYPE=text/html:<a href='https://www.weespfoto.nl/agenda/item//364167'>https://weespfoto.nl/agenda/item//364167</a> || <p>Worstel je met angst? Wil je bevrijding? Deze therapeutische opstellingenmiddag biedt de unieke kans om de oorzaak van de angst te doorgronden. In een kleine, veilige groep ervaar je helende diepgang en zet je krachtige stappen naar meer rust en vertrouwen. Info/aanmelden: www.minke.nu/opstellingen</p>
DESCRIPTION:<a href='https://www.weespfoto.nl/agenda/item//364167'>https://www.weespfoto.nl/agenda/item//364167</a> || Worstel je met angst? Wil je bevrijding? Deze therapeutische opstellingenmiddag biedt de unieke kans om de oorzaak van de angst te doorgronden. In een kleine, veilige groep ervaar je helende diepgang en zet je krachtige stappen naar meer rust en vertrouwen. Info/aanmelden: www.minke.nu/opstellingen
LAST-MODIFIED:20260424T132226Z
LOCATION:YogaYvonne Lambertus Hortensiuslaan 13E 1412gv Naarden
SEQUENCE:0
STATUS:CONFIRMED
SUMMARY:Van angst naar vertrouwen
TRANSP:OPAQUE
END:VEVENT
END:VCALENDAR
