BEGIN:VCALENDAR
PRODID:-//PUBBLE//enter agenda//NL
VERSION:2.0
METHOD:PUBLISH
BEGIN:VEVENT
DTSTART:20260129T070000Z
DTEND:20260331T031700Z
DTSTAMP:20260424T013308Z
UID:1d9478ee-1095-437b-81ae-9bee85b54d26
CREATED:20260424T013308Z
URL:https://www.weespfoto.nl/agenda/item/364254
NAME:Werkcentrum Gooi & Vecht weespfoto.nl
X-WR-CALNAME:Werkcentrum Gooi & Vecht weespfoto.nl
X-ALT-DESC;FMTTYPE=text/html:<a href='https://www.weespfoto.nl/agenda/item//364254'>https://weespfoto.nl/agenda/item//364254</a> || <p>Zet de eerste stap in jouw zoektocht naar je ideale baan bij het Werkcentrum Gooi &amp; Vechtstreek in de Bibliotheek. Hier kun je terecht voor vragen en advies over werk, scholing, leerwerktrajecten, financiering van een opleiding en loopbaanontwikkeling. Gratis, open inloop.</p>
DESCRIPTION:<a href='https://www.weespfoto.nl/agenda/item//364254'>https://www.weespfoto.nl/agenda/item//364254</a> || Zet de eerste stap in jouw zoektocht naar je ideale baan bij het Werkcentrum Gooi & Vechtstreek in de Bibliotheek. Hier kun je terecht voor vragen en advies over werk, scholing, leerwerktrajecten, financiering van een opleiding en loopbaanontwikkeling. Gratis, open inloop.
LAST-MODIFIED:20260424T013308Z
LOCATION:Bibliotheek Hilversum 's-Gravelandseweg 55 1217eh Hilversum
SEQUENCE:0
STATUS:CONFIRMED
SUMMARY:Werkcentrum Gooi & Vecht
TRANSP:OPAQUE
END:VEVENT
END:VCALENDAR
