BEGIN:VCALENDAR
PRODID:-//PUBBLE//enter agenda//NL
VERSION:2.0
METHOD:PUBLISH
BEGIN:VEVENT
DTSTART:20251113T163000Z
DTEND:20251113T173000Z
DTSTAMP:20260426T040426Z
UID:4071c5ce-1cdb-4d11-814c-a33b682d12f0
CREATED:20260426T040426Z
URL:https://www.weespfoto.nl/agenda/item/364302
NAME:Pennenhelden weespfoto.nl
X-WR-CALNAME:Pennenhelden weespfoto.nl
X-ALT-DESC;FMTTYPE=text/html:<a href='https://www.weespfoto.nl/agenda/item//364302'>https://weespfoto.nl/agenda/item//364302</a> || <p>Schrijfclub voor kinderen van 8-12 jaar! Ontdek je fantasie en schrijf je eigen verhalen met hulp van schrijfcoaches Judith en Lynn. Plezier staat voorop! Tarief € 3,50. Aanmelden: www.bibliotheekgooiplus.nl</p>
DESCRIPTION:<a href='https://www.weespfoto.nl/agenda/item//364302'>https://www.weespfoto.nl/agenda/item//364302</a> || Schrijfclub voor kinderen van 8-12 jaar! Ontdek je fantasie en schrijf je eigen verhalen met hulp van schrijfcoaches Judith en Lynn. Plezier staat voorop! Tarief € 3,50. Aanmelden: www.bibliotheekgooiplus.nl
LAST-MODIFIED:20260426T040426Z
LOCATION:Bibliotheek Gooi+ Naarden Majoor Kampsstraat  3 1411TT Naarden
SEQUENCE:0
STATUS:CONFIRMED
SUMMARY:Pennenhelden
TRANSP:OPAQUE
END:VEVENT
END:VCALENDAR
