BEGIN:VCALENDAR
PRODID:-//PUBBLE//enter agenda//NL
VERSION:2.0
METHOD:PUBLISH
BEGIN:VEVENT
DTSTART:20251122T090000Z
DTEND:20251123T150000Z
DTSTAMP:20260424T232116Z
UID:2f2dc18c-e32f-4c42-8a29-796ca6ea7a64
CREATED:20260424T232116Z
URL:https://www.weespfoto.nl/agenda/item/364357
NAME:Keramiek met een hart weespfoto.nl
X-WR-CALNAME:Keramiek met een hart weespfoto.nl
X-ALT-DESC;FMTTYPE=text/html:<a href='https://www.weespfoto.nl/agenda/item//364357'>https://weespfoto.nl/agenda/item//364357</a> || <p>Zaterdag 22 en zondag 23 november van 11 tot 17 uur is er een keramiekverkoop voor KiKa bij Barbie Keramiek, Krekelmeent 126, Hilversumse Meent. Alle opbrengst van de unieke schalen, vazen en beelden die te koop zijn, gaat naar Stichting KiKa.</p>
DESCRIPTION:<a href='https://www.weespfoto.nl/agenda/item//364357'>https://www.weespfoto.nl/agenda/item//364357</a> || Zaterdag 22 en zondag 23 november van 11 tot 17 uur is er een keramiekverkoop voor KiKa bij Barbie Keramiek, Krekelmeent 126, Hilversumse Meent. Alle opbrengst van de unieke schalen, vazen en beelden die te koop zijn, gaat naar Stichting KiKa.
LAST-MODIFIED:20260424T232116Z
LOCATION:BarbieKeramiek Krekelmeent 126 1218eg Hilversum
SEQUENCE:0
STATUS:CONFIRMED
SUMMARY:Keramiek met een hart
TRANSP:OPAQUE
END:VEVENT
END:VCALENDAR
