BEGIN:VCALENDAR
PRODID:-//PUBBLE//enter agenda//NL
VERSION:2.0
METHOD:PUBLISH
BEGIN:VEVENT
DTSTART:20251230T090000Z
DTEND:20251230T143000Z
DTSTAMP:20260424T004003Z
UID:e9721952-af57-49a4-9d07-9a815f9dddc7
CREATED:20260424T004003Z
URL:https://www.weespfoto.nl/agenda/item/364510
NAME:Plus bus Weesp weespfoto.nl
X-WR-CALNAME:Plus bus Weesp weespfoto.nl
X-ALT-DESC;FMTTYPE=text/html:<a href='https://www.weespfoto.nl/agenda/item//364510'>https://weespfoto.nl/agenda/item//364510</a> || <p>Verrassingtocht&nbsp;</p><p>Heeft u tussen kerst en oud en nieuw zin in een dagje uit, laat u dan verrassen door de chauffeur die voor u een leuke rondrit heeft bedacht met een gezellige lunch onderweg.</p><p>info ma en vr tussen 10-12 uur op 0294410639.</p>
DESCRIPTION:<a href='https://www.weespfoto.nl/agenda/item//364510'>https://www.weespfoto.nl/agenda/item//364510</a> || Verrassingtocht Heeft u tussen kerst en oud en nieuw zin in een dagje uit, laat u dan verrassen door de chauffeur die voor u een leuke rondrit heeft bedacht met een gezellige lunch onderweg.info ma en vr tussen 10-12 uur op 0294410639.
LAST-MODIFIED:20260424T004003Z
LOCATION:Thuis ophalen xx xx XXXX Weesp
SEQUENCE:0
STATUS:CONFIRMED
SUMMARY:Plus bus Weesp
TRANSP:OPAQUE
END:VEVENT
END:VCALENDAR
