BEGIN:VCALENDAR
PRODID:-//PUBBLE//enter agenda//NL
VERSION:2.0
METHOD:PUBLISH
BEGIN:VEVENT
DTSTART:20251121T130000Z
DTEND:20251121T150000Z
DTSTAMP:20260424T145910Z
UID:b35fef4d-7f67-4203-bada-f6c5ceac9788
CREATED:20260424T145910Z
URL:https://www.weespfoto.nl/agenda/item/364538
NAME:Cursus Word weespfoto.nl
X-WR-CALNAME:Cursus Word weespfoto.nl
X-ALT-DESC;FMTTYPE=text/html:<a href='https://www.weespfoto.nl/agenda/item//364538'>https://weespfoto.nl/agenda/item//364538</a> || <p>Maak in twee bijeenkomsten kennis met tekstverwerken. Leer hoe je teksten opmaakt op verschillende manieren en hoe je plaatjes in invoegt. De tweede bijeenkomst is op 28 november. Aanmelden: www.bibliotheekgooiplus.nl &nbsp;</p>
DESCRIPTION:<a href='https://www.weespfoto.nl/agenda/item//364538'>https://www.weespfoto.nl/agenda/item//364538</a> || Maak in twee bijeenkomsten kennis met tekstverwerken. Leer hoe je teksten opmaakt op verschillende manieren en hoe je plaatjes in invoegt. De tweede bijeenkomst is op 28 november. Aanmelden: www.bibliotheekgooiplus.nl  
LAST-MODIFIED:20260424T145910Z
LOCATION:Bibliotheek Gooi+ Bussum Wilhelminaplantsoen 18 1404jb Bussum
SEQUENCE:0
STATUS:CONFIRMED
SUMMARY:Cursus Word
TRANSP:OPAQUE
END:VEVENT
END:VCALENDAR
