BEGIN:VCALENDAR
PRODID:-//PUBBLE//enter agenda//NL
VERSION:2.0
METHOD:PUBLISH
BEGIN:VEVENT
DTSTART:20251122T083000Z
DTEND:20251122T110000Z
DTSTAMP:20260424T220029Z
UID:0749d993-521b-4c79-b0f6-a92b7b4919ad
CREATED:20260424T220029Z
URL:https://www.weespfoto.nl/agenda/item/364540
NAME:Groot Dictee weespfoto.nl
X-WR-CALNAME:Groot Dictee weespfoto.nl
X-ALT-DESC;FMTTYPE=text/html:<a href='https://www.weespfoto.nl/agenda/item//364540'>https://weespfoto.nl/agenda/item//364540</a> || <p>Doe via een livestream mee met het Groot Dictee der Nederlandse Taal.</p><p>Tijdens het dictee, geschreven door Frits Spits, buigen we ons gezamenlijk over spitsvondige zinnen en intrigerende woordconstructies. Aanmelden: www.bibliotheekgooiplus.nl</p>
DESCRIPTION:<a href='https://www.weespfoto.nl/agenda/item//364540'>https://www.weespfoto.nl/agenda/item//364540</a> || Doe via een livestream mee met het Groot Dictee der Nederlandse Taal.Tijdens het dictee, geschreven door Frits Spits, buigen we ons gezamenlijk over spitsvondige zinnen en intrigerende woordconstructies. Aanmelden: www.bibliotheekgooiplus.nl
LAST-MODIFIED:20260424T220029Z
LOCATION:Bibliotheek Gooi+ Bussum Wilhelminaplantsoen 18 1404jb Bussum
SEQUENCE:0
STATUS:CONFIRMED
SUMMARY:Groot Dictee
TRANSP:OPAQUE
END:VEVENT
END:VCALENDAR
