BEGIN:VCALENDAR
PRODID:-//PUBBLE//enter agenda//NL
VERSION:2.0
METHOD:PUBLISH
BEGIN:VEVENT
DTSTART:20251122T140000Z
DTEND:20251122T153000Z
DTSTAMP:20260425T024135Z
UID:b8f1c27c-a2b5-4eeb-b187-43cf4016c666
CREATED:20260425T024135Z
URL:https://www.weespfoto.nl/agenda/item/364544
NAME:Carry van Bruggen lezing weespfoto.nl
X-WR-CALNAME:Carry van Bruggen lezing weespfoto.nl
X-ALT-DESC;FMTTYPE=text/html:<a href='https://www.weespfoto.nl/agenda/item//364544'>https://weespfoto.nl/agenda/item//364544</a> || <p>T.g.v. de Dag van de Verdraagzaamheid houdt Eric van der Burg de Carry van Bruggen-lezing. Met een laudatio van Nanning Mol. Aanmelden: www.bibliotheekgooiplus.nl</p>
DESCRIPTION:<a href='https://www.weespfoto.nl/agenda/item//364544'>https://www.weespfoto.nl/agenda/item//364544</a> || T.g.v. de Dag van de Verdraagzaamheid houdt Eric van der Burg de Carry van Bruggen-lezing. Met een laudatio van Nanning Mol. Aanmelden: www.bibliotheekgooiplus.nl
LAST-MODIFIED:20260425T024135Z
LOCATION:Bibliotheek Gooi + Laren Brink 29 1251kt Laren
SEQUENCE:0
STATUS:CONFIRMED
SUMMARY:Carry van Bruggen lezing
TRANSP:OPAQUE
END:VEVENT
END:VCALENDAR
