BEGIN:VCALENDAR
PRODID:-//PUBBLE//enter agenda//NL
VERSION:2.0
METHOD:PUBLISH
BEGIN:VEVENT
DTSTART:20251123T110000Z
DTEND:20251123T150000Z
DTSTAMP:20260425T173623Z
UID:789051c3-2998-418e-890f-3176db495444
CREATED:20260425T173623Z
URL:https://www.weespfoto.nl/agenda/item/364793
NAME:Wintermarkt Liv inn weespfoto.nl
X-WR-CALNAME:Wintermarkt Liv inn weespfoto.nl
X-ALT-DESC;FMTTYPE=text/html:<a href='https://www.weespfoto.nl/agenda/item//364793'>https://weespfoto.nl/agenda/item//364793</a> || <p>Zondag 23 november Wintermarkt</p><p>Kraampjes met lekkernijen, mooie nieuwe en tweedehands spullen.Live muziek en een grabbelton voor de kinderen.</p><p>Van 13.00 tot 17.00 uur.</p><p>Liv inn Vaartweg 42 Hilversum </p>
DESCRIPTION:<a href='https://www.weespfoto.nl/agenda/item//364793'>https://www.weespfoto.nl/agenda/item//364793</a> || Zondag 23 november WintermarktKraampjes met lekkernijen, mooie nieuwe en tweedehands spullen.Live muziek en een grabbelton voor de kinderen.Van 13.00 tot 17.00 uur.Liv inn Vaartweg 42 Hilversum 
LAST-MODIFIED:20260425T173623Z
LOCATION:    
SEQUENCE:0
STATUS:CONFIRMED
SUMMARY:Wintermarkt Liv inn
TRANSP:OPAQUE
END:VEVENT
END:VCALENDAR
