BEGIN:VCALENDAR
PRODID:-//PUBBLE//enter agenda//NL
VERSION:2.0
METHOD:PUBLISH
BEGIN:VEVENT
DTSTART:20251122T113000Z
DTEND:20251122T143000Z
DTSTAMP:20260425T010454Z
UID:2341e6d4-576c-473a-a553-88ccb07018cd
CREATED:20260425T010454Z
URL:https://www.weespfoto.nl/agenda/item/365053
NAME:Authentic Play weespfoto.nl
X-WR-CALNAME:Authentic Play weespfoto.nl
X-ALT-DESC;FMTTYPE=text/html:<a href='https://www.weespfoto.nl/agenda/item//365053'>https://weespfoto.nl/agenda/item//365053</a> || <p>Een speelse, interactieve meditatie: een mat op de grond, een timer en een paar basisregels. Non-verbaal, zonder doel, in interactie met een ander je impulsen volgen. Ervaar de vrijheid van trouw zijn aan jezelf in connectie met een ander. Licht, verrassend en bevrijdend. www.zijnmetwatis.nl</p>
DESCRIPTION:<a href='https://www.weespfoto.nl/agenda/item//365053'>https://www.weespfoto.nl/agenda/item//365053</a> || Een speelse, interactieve meditatie: een mat op de grond, een timer en een paar basisregels. Non-verbaal, zonder doel, in interactie met een ander je impulsen volgen. Ervaar de vrijheid van trouw zijn aan jezelf in connectie met een ander. Licht, verrassend en bevrijdend. www.zijnmetwatis.nl
LAST-MODIFIED:20260425T010454Z
LOCATION:YogaLotus Vliegdenweg  6 1406MZ Bussum
SEQUENCE:0
STATUS:CONFIRMED
SUMMARY:Authentic Play
TRANSP:OPAQUE
END:VEVENT
END:VCALENDAR
