BEGIN:VCALENDAR
PRODID:-//PUBBLE//enter agenda//NL
VERSION:2.0
METHOD:PUBLISH
BEGIN:VEVENT
DTSTART:20251230T120000Z
DTEND:20251230T150000Z
DTSTAMP:20260424T020511Z
UID:c6d8dfeb-1597-40ed-b8b2-2965c9260298
CREATED:20260424T020511Z
URL:https://www.weespfoto.nl/agenda/item/365249
NAME:Wicked: For Good (OV) weespfoto.nl
X-WR-CALNAME:Wicked: For Good (OV) weespfoto.nl
X-ALT-DESC;FMTTYPE=text/html:<a href='https://www.weespfoto.nl/agenda/item//365249'>https://weespfoto.nl/agenda/item//365249</a> || <p>In Wicked: For Good bereikt de Broadway-sensatie haar emotionele hoogtepunt. Regisseur Jon M. Chu en sterren Cynthia Erivo en Ariana Grande tonen hoe Elphaba en Glinda moeten leven met de gevolgen van hun keuzes.</p>
DESCRIPTION:<a href='https://www.weespfoto.nl/agenda/item//365249'>https://www.weespfoto.nl/agenda/item//365249</a> || In Wicked: For Good bereikt de Broadway-sensatie haar emotionele hoogtepunt. Regisseur Jon M. Chu en sterren Cynthia Erivo en Ariana Grande tonen hoe Elphaba en Glinda moeten leven met de gevolgen van hun keuzes.
LAST-MODIFIED:20260424T020511Z
LOCATION:Theater de Omval Ouddiemerlaan 104 1111HL Diemen
SEQUENCE:0
STATUS:CONFIRMED
SUMMARY:Wicked: For Good (OV)
TRANSP:OPAQUE
END:VEVENT
END:VCALENDAR
