BEGIN:VCALENDAR
PRODID:-//PUBBLE//enter agenda//NL
VERSION:2.0
METHOD:PUBLISH
BEGIN:VEVENT
DTSTART:20260108T070000Z
DTEND:20261231T083600Z
DTSTAMP:20260424T013248Z
UID:48f5b38c-b9e1-4295-8b7f-750e48878561
CREATED:20260424T013248Z
URL:https://www.weespfoto.nl/agenda/item/367594
NAME:Plantconsult op afspraak weespfoto.nl
X-WR-CALNAME:Plantconsult op afspraak weespfoto.nl
X-ALT-DESC;FMTTYPE=text/html:<a href='https://www.weespfoto.nl/agenda/item//367594'>https://weespfoto.nl/agenda/item//367594</a> || <p>Wil je meer weten over permacultuur in je tuin, wildplukken, kamerplanten en/of etnobotanie? Boek dan een plantconsult bij Marit, de Groene Coach bij Haven5 voor jouw groene vragen. Neem een kijkje in de eetbare tuin, ontdek plantenbieb STEK en kom meer te weten over planten en hun toepassingen.</p>
DESCRIPTION:<a href='https://www.weespfoto.nl/agenda/item//367594'>https://www.weespfoto.nl/agenda/item//367594</a> || Wil je meer weten over permacultuur in je tuin, wildplukken, kamerplanten en/of etnobotanie? Boek dan een plantconsult bij Marit, de Groene Coach bij Haven5 voor jouw groene vragen. Neem een kijkje in de eetbare tuin, ontdek plantenbieb STEK en kom meer te weten over planten en hun toepassingen.
LAST-MODIFIED:20260424T013248Z
LOCATION:Haven 5 Havenstraat 5 1271AB Huizen
SEQUENCE:0
STATUS:CONFIRMED
SUMMARY:Plantconsult op afspraak
TRANSP:OPAQUE
END:VEVENT
END:VCALENDAR
