BEGIN:VCALENDAR
PRODID:-//PUBBLE//enter agenda//NL
VERSION:2.0
METHOD:PUBLISH
BEGIN:VEVENT
DTSTART:20251230T080000Z
DTEND:20261231T122900Z
DTSTAMP:20260423T202236Z
UID:3e8c81c9-2286-4d65-a5f3-e4a44e3d0062
CREATED:20260423T202236Z
URL:https://www.weespfoto.nl/agenda/item/367668
NAME:PC HelpdeskBEL Laren weespfoto.nl
X-WR-CALNAME:PC HelpdeskBEL Laren weespfoto.nl
X-ALT-DESC;FMTTYPE=text/html:<a href='https://www.weespfoto.nl/agenda/item//367668'>https://weespfoto.nl/agenda/item//367668</a> || <p>De PC HelpdeskBEL voor advies, vragen en/of problemen met uw Windows- of Apple computer, tablet of smartphone. Geopend iedere werkdag van 10.00 - 12.00 uur in Het Brinkhuis in Laren.</p><p>Kosten € 3,00 per bezoek incl. koffie/thee. Graag met PIN betalen.</p><p>zie ook: www.pchelpdeskbel.nl</p>
DESCRIPTION:<a href='https://www.weespfoto.nl/agenda/item//367668'>https://www.weespfoto.nl/agenda/item//367668</a> || De PC HelpdeskBEL voor advies, vragen en/of problemen met uw Windows- of Apple computer, tablet of smartphone. Geopend iedere werkdag van 10.00 - 12.00 uur in Het Brinkhuis in Laren.Kosten € 3,00 per bezoek incl. koffie/thee. Graag met PIN betalen.zie ook: www.pchelpdeskbel.nl
LAST-MODIFIED:20260423T202236Z
LOCATION:Brinkhuis Brink 29 1251kt Laren
SEQUENCE:0
STATUS:CONFIRMED
SUMMARY:PC HelpdeskBEL Laren
TRANSP:OPAQUE
END:VEVENT
END:VCALENDAR
