BEGIN:VCALENDAR
PRODID:-//PUBBLE//enter agenda//NL
VERSION:2.0
METHOD:PUBLISH
BEGIN:VEVENT
DTSTART:20260307T080000Z
DTEND:20260308T120000Z
DTSTAMP:20260424T140313Z
UID:1a636ce9-a554-47f6-944b-6624129d3147
CREATED:20260424T140313Z
URL:https://www.weespfoto.nl/agenda/item/367688
NAME:Gratis Sterke Vrouwen Tour weespfoto.nl
X-WR-CALNAME:Gratis Sterke Vrouwen Tour weespfoto.nl
X-ALT-DESC;FMTTYPE=text/html:<a href='https://www.weespfoto.nl/agenda/item//367688'>https://weespfoto.nl/agenda/item//367688</a> || <p>In deze interactieve rondleiding door het Muiderslot onderzoeken we hoe het leven van vrouwen in de middeleeuwen zich verhoudt tot dat van vrouwen vandaag. Wat is er veranderd en wat juist niet? Een verrassende en actuele blik op de geschiedenis van het Muiderslot!</p>
DESCRIPTION:<a href='https://www.weespfoto.nl/agenda/item//367688'>https://www.weespfoto.nl/agenda/item//367688</a> || In deze interactieve rondleiding door het Muiderslot onderzoeken we hoe het leven van vrouwen in de middeleeuwen zich verhoudt tot dat van vrouwen vandaag. Wat is er veranderd en wat juist niet? Een verrassende en actuele blik op de geschiedenis van het Muiderslot!
LAST-MODIFIED:20260424T140313Z
LOCATION:Muiderslot Herengracht 1 1398AA Muiden
SEQUENCE:0
STATUS:CONFIRMED
SUMMARY:Gratis Sterke Vrouwen Tour
TRANSP:OPAQUE
END:VEVENT
END:VCALENDAR
