BEGIN:VCALENDAR
PRODID:-//PUBBLE//enter agenda//NL
VERSION:2.0
METHOD:PUBLISH
BEGIN:VEVENT
DTSTART:20260108T123800Z
DTEND:20260625T113800Z
DTSTAMP:20260423T201948Z
UID:b703eb4e-f60e-4fdf-8811-d0ca40886928
CREATED:20260423T201948Z
URL:https://www.weespfoto.nl/agenda/item/367760
NAME:Body Combinatie sportles weespfoto.nl
X-WR-CALNAME:Body Combinatie sportles weespfoto.nl
X-ALT-DESC;FMTTYPE=text/html:<a href='https://www.weespfoto.nl/agenda/item//367760'>https://weespfoto.nl/agenda/item//367760</a> || <p>Een Body Combinatie les maakt het lichaam soepel en sterk tegelijk. De rek- en strekoefeningen en conditie training maken de spieren soepel, waarbij tussendoor aandacht is voor een stukje ontspanning van het lichaam. Meer info bij Rita: 06-12024743 of via e-mail houthuijzen1954@kpnmail.nl</p>
DESCRIPTION:<a href='https://www.weespfoto.nl/agenda/item//367760'>https://www.weespfoto.nl/agenda/item//367760</a> || Een Body Combinatie les maakt het lichaam soepel en sterk tegelijk. De rek- en strekoefeningen en conditie training maken de spieren soepel, waarbij tussendoor aandacht is voor een stukje ontspanning van het lichaam. Meer info bij Rita: 06-12024743 of via e-mail houthuijzen1954@kpnmail.nl
LAST-MODIFIED:20260423T201948Z
LOCATION:Wilhelminaschool (gymzaal) Gijsbrecht van Amstelstraat 4 1213CK Hilversum
SEQUENCE:0
STATUS:CONFIRMED
SUMMARY:Body Combinatie sportles
TRANSP:OPAQUE
END:VEVENT
END:VCALENDAR
