BEGIN:VCALENDAR
PRODID:-//PUBBLE//enter agenda//NL
VERSION:2.0
METHOD:PUBLISH
BEGIN:VEVENT
DTSTART:20260112T170000Z
DTEND:20260112T200000Z
DTSTAMP:20260424T140749Z
UID:c5bdcc62-aefd-425d-b4f4-3eba16bf4c96
CREATED:20260424T140749Z
URL:https://www.weespfoto.nl/agenda/item/367761
NAME:Beste schaker Hilversum weespfoto.nl
X-WR-CALNAME:Beste schaker Hilversum weespfoto.nl
X-ALT-DESC;FMTTYPE=text/html:<a href='https://www.weespfoto.nl/agenda/item//367761'>https://weespfoto.nl/agenda/item//367761</a> || <p>Snelle grijphanden, goede oog-hand coördinatie. &nbsp;Daar gaat het &nbsp;om tijdens de &nbsp;snelschaakpartijen die maandag 12 januari worden gespeeld in brouwerijcafé Mout. De achtste editie van de Beste schaker van Hilversum is een kroegtoernooi voor schakers vanaf 18 jaar, (alle speelsterktes). Aanvang 20 uur.</p>
DESCRIPTION:<a href='https://www.weespfoto.nl/agenda/item//367761'>https://www.weespfoto.nl/agenda/item//367761</a> || Snelle grijphanden, goede oog-hand coördinatie.  Daar gaat het  om tijdens de  snelschaakpartijen die maandag 12 januari worden gespeeld in brouwerijcafé Mout. De achtste editie van de Beste schaker van Hilversum is een kroegtoernooi voor schakers vanaf 18 jaar, (alle speelsterktes). Aanvang 20 uur.
LAST-MODIFIED:20260424T140749Z
LOCATION:Mout Marktplein  1211dz Hilversum
SEQUENCE:0
STATUS:CONFIRMED
SUMMARY:Beste schaker Hilversum
TRANSP:OPAQUE
END:VEVENT
END:VCALENDAR
