BEGIN:VCALENDAR
PRODID:-//PUBBLE//enter agenda//NL
VERSION:2.0
METHOD:PUBLISH
BEGIN:VEVENT
DTSTART:20260112T163000Z
DTEND:20261231T174400Z
DTSTAMP:20260424T094619Z
UID:8d64c693-b632-43a6-8f35-0a64636e85b9
CREATED:20260424T094619Z
URL:https://www.weespfoto.nl/agenda/item/368243
NAME:Kerkdienst weespfoto.nl
X-WR-CALNAME:Kerkdienst weespfoto.nl
X-ALT-DESC;FMTTYPE=text/html:<a href='https://www.weespfoto.nl/agenda/item//368243'>https://weespfoto.nl/agenda/item//368243</a> || <p>Als kerk willen we mensen in aanraking brengen met de kracht van het geloof in Jezus. Je bent van harte welkom om een keer langs te komen bij één van onze wekelijkse diensten of activiteiten!</p>
DESCRIPTION:<a href='https://www.weespfoto.nl/agenda/item//368243'>https://www.weespfoto.nl/agenda/item//368243</a> || Als kerk willen we mensen in aanraking brengen met de kracht van het geloof in Jezus. Je bent van harte welkom om een keer langs te komen bij één van onze wekelijkse diensten of activiteiten!
LAST-MODIFIED:20260424T094619Z
LOCATION:De Deur Hilversum Naarderstraat 84 1211 AM Hilversum
SEQUENCE:0
STATUS:CONFIRMED
SUMMARY:Kerkdienst
TRANSP:OPAQUE
END:VEVENT
END:VCALENDAR
