BEGIN:VCALENDAR
PRODID:-//PUBBLE//enter agenda//NL
VERSION:2.0
METHOD:PUBLISH
BEGIN:VEVENT
DTSTART:20260112T182700Z
DTEND:20270113T182700Z
DTSTAMP:20260424T170046Z
UID:240c855b-b103-4f0f-a162-4864909a5aa6
CREATED:20260424T170046Z
URL:https://www.weespfoto.nl/agenda/item/368246
NAME:Vrijwilligerscentra Eemnes weespfoto.nl
X-WR-CALNAME:Vrijwilligerscentra Eemnes weespfoto.nl
X-ALT-DESC;FMTTYPE=text/html:<a href='https://www.weespfoto.nl/agenda/item//368246'>https://weespfoto.nl/agenda/item//368246</a> || <p>Wil je vrijwilligerswerk doen of zoek je vrijwilligers? Bezoek dan voor alle informatie het spreekuur van Versa Vrijwilligerscentrale.</p>
DESCRIPTION:<a href='https://www.weespfoto.nl/agenda/item//368246'>https://www.weespfoto.nl/agenda/item//368246</a> || Wil je vrijwilligerswerk doen of zoek je vrijwilligers? Bezoek dan voor alle informatie het spreekuur van Versa Vrijwilligerscentrale.
LAST-MODIFIED:20260424T170046Z
LOCATION:Bibliotheek Gooi+ Eemnes Noordersingel 4 3755ez Eemnes
SEQUENCE:0
STATUS:CONFIRMED
SUMMARY:Vrijwilligerscentra Eemnes
TRANSP:OPAQUE
END:VEVENT
END:VCALENDAR
