BEGIN:VCALENDAR
PRODID:-//PUBBLE//enter agenda//NL
VERSION:2.0
METHOD:PUBLISH
BEGIN:VEVENT
DTSTART:20260112T184000Z
DTEND:20270115T184000Z
DTSTAMP:20260424T182645Z
UID:3edab1db-453a-4e0e-8448-757912e17c4d
CREATED:20260424T182645Z
URL:https://www.weespfoto.nl/agenda/item/368247
NAME:Vrijwilligerscentra Laren weespfoto.nl
X-WR-CALNAME:Vrijwilligerscentra Laren weespfoto.nl
X-ALT-DESC;FMTTYPE=text/html:<a href='https://www.weespfoto.nl/agenda/item//368247'>https://weespfoto.nl/agenda/item//368247</a> || <p>Wil je vrijwilligerswerk doen of zoek je vrijwilligers? Bezoek dan voor alle informatie het spreekuur van Versa Vrijwilligerscentrale.</p>
DESCRIPTION:<a href='https://www.weespfoto.nl/agenda/item//368247'>https://www.weespfoto.nl/agenda/item//368247</a> || Wil je vrijwilligerswerk doen of zoek je vrijwilligers? Bezoek dan voor alle informatie het spreekuur van Versa Vrijwilligerscentrale.
LAST-MODIFIED:20260424T182645Z
LOCATION:Bibliotheek Gooi + Laren Brink 29 1251kt Laren
SEQUENCE:0
STATUS:CONFIRMED
SUMMARY:Vrijwilligerscentra Laren
TRANSP:OPAQUE
END:VEVENT
END:VCALENDAR
